BEGIN:VCALENDAR
VERSION:2.0
PRODID:-//South West Health Professionals Network - ECPv6.15.20//NONSGML v1.0//EN
CALSCALE:GREGORIAN
METHOD:PUBLISH
X-ORIGINAL-URL:https://www.swhpn.com.au
X-WR-CALDESC:Events for South West Health Professionals Network
REFRESH-INTERVAL;VALUE=DURATION:PT1H
X-Robots-Tag:noindex
X-PUBLISHED-TTL:PT1H
BEGIN:VTIMEZONE
TZID:Asia/Shanghai
BEGIN:STANDARD
TZOFFSETFROM:+0800
TZOFFSETTO:+0800
TZNAME:CST
DTSTART:20240101T000000
END:STANDARD
END:VTIMEZONE
BEGIN:VEVENT
DTSTART;TZID=Asia/Shanghai:20250225T173000
DTEND;TZID=Asia/Shanghai:20250225T190000
DTSTAMP:20260423T103856
CREATED:20250123T034257Z
LAST-MODIFIED:20250123T040131Z
UID:10002298-1740504600-1740510000@www.swhpn.com.au
SUMMARY:Voluntary Assisted Dying Community Information Session
DESCRIPTION:You are invited to meet with the Voluntary Assisted Dying Board and the State-wide Care Navigator Service to find out more about voluntary assisted dying. \nAll Welcome \nhttps://events.humanitix.com/voluntary-assisted-dying-community-information-session
URL:https://www.swhpn.com.au/event/voluntary-assisted-dying-community-information-session-2/
LOCATION:Council Chambers\, Shire of Augusta Margaret River\, Margaret River\, 41 Wallcliffe Road\,\, Margaret River
CATEGORIES:Community
GEO:-33.954234;115.0685159
X-APPLE-STRUCTURED-LOCATION;VALUE=URI;X-ADDRESS=Council Chambers Shire of Augusta Margaret River Margaret River 41 Wallcliffe Road Margaret River;X-APPLE-RADIUS=500;X-TITLE=41 Wallcliffe Road\,:geo:115.0685159,-33.954234
END:VEVENT
END:VCALENDAR