BEGIN:VCALENDAR
VERSION:2.0
PRODID:-//South West Health Professionals Network - ECPv6.15.20//NONSGML v1.0//EN
CALSCALE:GREGORIAN
METHOD:PUBLISH
X-ORIGINAL-URL:https://www.swhpn.com.au
X-WR-CALDESC:Events for South West Health Professionals Network
REFRESH-INTERVAL;VALUE=DURATION:PT1H
X-Robots-Tag:noindex
X-PUBLISHED-TTL:PT1H
BEGIN:VTIMEZONE
TZID:Asia/Shanghai
BEGIN:STANDARD
TZOFFSETFROM:+0800
TZOFFSETTO:+0800
TZNAME:CST
DTSTART:20210101T000000
END:STANDARD
END:VTIMEZONE
BEGIN:VEVENT
DTSTART;TZID=Asia/Shanghai:20221025T190000
DTEND;TZID=Asia/Shanghai:20221025T200000
DTSTAMP:20260423T155806
CREATED:20221012T065315Z
LAST-MODIFIED:20221012T065315Z
UID:10002195-1666724400-1666728000@www.swhpn.com.au
SUMMARY:General Practice Cancer Education Webinar
DESCRIPTION:Breast density – what does it mean for GPs and their patients? \nOverview\nMammographic breast density can be a challenge for general practitioners (GPs) and their patients. High mammographic breast density lowers the sensitivity of breast cancer screening; thereby increasing the risk of an interval cancer between screening episodes\, and moderately increases breast cancer risk. Breast Screen WA is the only Australian state screening program to notify women and their GP when a mammogram shows marked increased breast density (and have been doing so for over 10 years). Women are advised in writing to consult their GP to discuss the significance of their breast density\, to have a clinical examination and receive further advice about their breast cancer risk. At this webinar\, Associate Professor Jennifer Stone will discuss the significance of breast density\, its occurrence\, how to discuss the implications of increased breast density with patients\, and the way forward. \nLearning outcomes\n1. Discuss the implications of increased breast density with patients\n2. Describe how breast density influences breast cancer risk and mammographic sensitivity\n3. State the supplemental screening recommendations indicated for patients with increased breast density\n4. Recall the ongoing breast density research in Australia \nPresenter\nAssociate Professor Jennifer Stone\, Epidemiologist & Senior Research Fellow\, University of Western Australia \nRegistration \nRegister through Eventbrite \n 
URL:https://www.swhpn.com.au/event/general-practice-cancer-education-webinar/
CATEGORIES:Health Events
ORGANIZER;CN="Cancer Council WA":MAILTO:gp@cancerwa.asn.au
END:VEVENT
END:VCALENDAR