BEGIN:VCALENDAR
VERSION:2.0
PRODID:-//South West Health Professionals Network - ECPv6.15.20//NONSGML v1.0//EN
CALSCALE:GREGORIAN
METHOD:PUBLISH
X-WR-CALNAME:South West Health Professionals Network
X-ORIGINAL-URL:https://www.swhpn.com.au
X-WR-CALDESC:Events for South West Health Professionals Network
REFRESH-INTERVAL;VALUE=DURATION:PT1H
X-Robots-Tag:noindex
X-PUBLISHED-TTL:PT1H
BEGIN:VTIMEZONE
TZID:Asia/Shanghai
BEGIN:STANDARD
TZOFFSETFROM:+0800
TZOFFSETTO:+0800
TZNAME:CST
DTSTART:20190101T000000
END:STANDARD
END:VTIMEZONE
BEGIN:VEVENT
DTSTART;TZID=Asia/Shanghai:20200518T140000
DTEND;TZID=Asia/Shanghai:20200518T150000
DTSTAMP:20260422T163754
CREATED:20191212T035557Z
LAST-MODIFIED:20191212T035557Z
UID:10001652-1589810400-1589814000@www.swhpn.com.au
SUMMARY:Diabetes Telehealth | Diabetes distress
DESCRIPTION:Delivered by Diabetes WA through a partnership with the WA Country Health Service\, Diabetes Telehealth builds diabetes management capacity in country WA by providing regular updates for health professionals with patients living with diabetes. The upskilling is delivered via videoconferencing technology (telehealth). Every month different diabetes-related topics are comprehensively covered\, sometimes by staff within Diabetes WA\, and sometimes by guest experts. Join us for some free professional development\, in the comfort of your own workplace or home. \nDiabetes distress and what health practitioners can do to support people living with diabetes: Presented by Melanie Burkhardt\, Clinical Psychologist\, Fiona Stanley Hospital. \n 
URL:https://www.swhpn.com.au/event/diabetes-telehealth-diabetes-distress/
LOCATION:WA\, Australia
CATEGORIES:Health Events
ORGANIZER;CN="Diabetes Telehealth":MAILTO:telehealth@diabeteswa.com.au
GEO:-27.6728168;121.6283098
END:VEVENT
BEGIN:VEVENT
DTSTART;TZID=Asia/Shanghai:20200504T140000
DTEND;TZID=Asia/Shanghai:20200504T150000
DTSTAMP:20260422T163754
CREATED:20191212T035442Z
LAST-MODIFIED:20191212T035442Z
UID:10001650-1588600800-1588604400@www.swhpn.com.au
SUMMARY:Diabetes Telehealth | Managing diabetes in schools update
DESCRIPTION:Delivered by Diabetes WA through a partnership with the WA Country Health Service\, Diabetes Telehealth builds diabetes management capacity in country WA by providing regular updates for health professionals with patients living with diabetes. The upskilling is delivered via videoconferencing technology (telehealth). Every month different diabetes-related topics are comprehensively covered\, sometimes by staff within Diabetes WA\, and sometimes by guest experts. Join us for some free professional development\, in the comfort of your own workplace or home. \nManaging diabetes in schools update and new guidelines for managing type 2 diabetes in children: Presented by Rebecca Flavel\, Diabetes WA. \n 
URL:https://www.swhpn.com.au/event/diabetes-telehealth-managing-diabetes-in-schools-update/
LOCATION:WA\, Australia
CATEGORIES:Health Events
ORGANIZER;CN="Diabetes Telehealth":MAILTO:telehealth@diabeteswa.com.au
GEO:-27.6728168;121.6283098
END:VEVENT
BEGIN:VEVENT
DTSTART;TZID=Asia/Shanghai:20200420T140000
DTEND;TZID=Asia/Shanghai:20200420T150000
DTSTAMP:20260422T163754
CREATED:20191212T035306Z
LAST-MODIFIED:20191212T035306Z
UID:10001648-1587391200-1587394800@www.swhpn.com.au
SUMMARY:Diabetes Telehealth | Diabetes and technology
DESCRIPTION:Delivered by Diabetes WA through a partnership with the WA Country Health Service\, Diabetes Telehealth builds diabetes management capacity in country WA by providing regular updates for health professionals with patients living with diabetes. The upskilling is delivered via videoconferencing technology (telehealth). Every month different diabetes-related topics are comprehensively covered\, sometimes by staff within Diabetes WA\, and sometimes by guest experts. Join us for some free professional development\, in the comfort of your own workplace or home. \nDiabetes and technology: Presented by Nyaree Lawler\, RN\, CDE\, Diabetes WA. \n 
URL:https://www.swhpn.com.au/event/diabetes-telehealth-diabetes-and-technology/
LOCATION:WA\, Australia
CATEGORIES:Health Events
ORGANIZER;CN="Diabetes Telehealth":MAILTO:telehealth@diabeteswa.com.au
GEO:-27.6728168;121.6283098
END:VEVENT
BEGIN:VEVENT
DTSTART;TZID=Asia/Shanghai:20200406T140000
DTEND;TZID=Asia/Shanghai:20200406T150000
DTSTAMP:20260422T163754
CREATED:20191212T035154Z
LAST-MODIFIED:20191212T035154Z
UID:10001645-1586181600-1586185200@www.swhpn.com.au
SUMMARY:Diabetes Telehealth | Diabetes medications
DESCRIPTION:Delivered by Diabetes WA through a partnership with the WA Country Health Service\, Diabetes Telehealth builds diabetes management capacity in country WA by providing regular updates for health professionals with patients living with diabetes. The upskilling is delivered via videoconferencing technology (telehealth). Every month different diabetes-related topics are comprehensively covered\, sometimes by staff within Diabetes WA\, and sometimes by guest experts. Join us for some free professional development\, in the comfort of your own workplace or home. \nDiabetes medications: Presented by Nyaree Lawler\, RN\, CDE\, Diabetes WA. \n 
URL:https://www.swhpn.com.au/event/diabetes-telehealth-diabetes-medications/
LOCATION:WA\, Australia
CATEGORIES:Health Events
ORGANIZER;CN="Diabetes Telehealth":MAILTO:telehealth@diabeteswa.com.au
GEO:-27.6728168;121.6283098
END:VEVENT
BEGIN:VEVENT
DTSTART;TZID=Asia/Shanghai:20200323T140000
DTEND;TZID=Asia/Shanghai:20200323T150000
DTSTAMP:20260422T163754
CREATED:20191212T034957Z
LAST-MODIFIED:20191212T034957Z
UID:10001643-1584972000-1584975600@www.swhpn.com.au
SUMMARY:Diabetes Telehealth | Managing diabetes with insulin
DESCRIPTION:Delivered by Diabetes WA through a partnership with the WA Country Health Service\, Diabetes Telehealth builds diabetes management capacity in country WA by providing regular updates for health professionals with patients living with diabetes. The upskilling is delivered via videoconferencing technology (telehealth). Every month different diabetes-related topics are comprehensively covered\, sometimes by staff within Diabetes WA\, and sometimes by guest experts. Join us for some free professional development\, in the comfort of your own workplace or home. \nManaging diabetes with insulin: Presented by Alison Menzies\, CDE\, Accredited Pharmacist\, Diabetes WA. \n 
URL:https://www.swhpn.com.au/event/diabetes-telehealth-managing-diabetes-with-insulin/
LOCATION:WA\, Australia
CATEGORIES:Health Events
ORGANIZER;CN="Diabetes Telehealth":MAILTO:telehealth@diabeteswa.com.au
GEO:-27.6728168;121.6283098
END:VEVENT
BEGIN:VEVENT
DTSTART;TZID=Asia/Shanghai:20200309T140000
DTEND;TZID=Asia/Shanghai:20200309T150000
DTSTAMP:20260422T163754
CREATED:20191212T034103Z
LAST-MODIFIED:20200212T060608Z
UID:10001641-1583762400-1583766000@www.swhpn.com.au
SUMMARY:Diabetes Telehealth | Back to Basics: a session on diabetes for new health professionals
DESCRIPTION:Delivered by Diabetes WA through a partnership with the WA Country Health Service\, Diabetes Telehealth builds diabetes management capacity in country WA by providing regular updates for health professionals with patients living with diabetes. The upskilling is delivered via videoconferencing technology (telehealth). Every month different diabetes-related topics are comprehensively covered\, sometimes by staff within Diabetes WA\, and sometimes by guest experts. Join us for some free professional development\, in the comfort of your own workplace or home. \nBack to Basics: a session on diabetes for new health professionals: Presented by Nyaree Lawler\, RN\, CDE\, Diabetes WA. \n 
URL:https://www.swhpn.com.au/event/diabetes-telehealth-back-to-basics-a-session-on-diabetes-for-new-health-professionals/
CATEGORIES:Health Events
ORGANIZER;CN="Diabetes Telehealth":MAILTO:telehealth@diabeteswa.com.au
END:VEVENT
BEGIN:VEVENT
DTSTART;TZID=Asia/Shanghai:20200224T140000
DTEND;TZID=Asia/Shanghai:20200224T150000
DTSTAMP:20260422T163754
CREATED:20191212T034014Z
LAST-MODIFIED:20191212T034425Z
UID:10001640-1582552800-1582556400@www.swhpn.com.au
SUMMARY:Diabetes Telehealth | Bariatric surgery and pregnancy
DESCRIPTION:Delivered by Diabetes WA through a partnership with the WA Country Health Service\, Diabetes Telehealth builds diabetes management capacity in country WA by providing regular updates for health professionals with patients living with diabetes. The upskilling is delivered via videoconferencing technology (telehealth). Every month different diabetes-related topics are comprehensively covered\, sometimes by staff within Diabetes WA\, and sometimes by guest experts. Join us for some free professional development\, in the comfort of your own workplace or home. \nBariatric surgery and pregnancy: Presented by Dr Sivanthi Senaratne\, Obstetrician\, KEMH. \n 
URL:https://www.swhpn.com.au/event/diabetes-telehealth-bariatric-surgery-and-pregnancy/
LOCATION:WA\, Australia
CATEGORIES:Health Events
ORGANIZER;CN="Diabetes Telehealth":MAILTO:telehealth@diabeteswa.com.au
GEO:-27.6728168;121.6283098
END:VEVENT
BEGIN:VEVENT
DTSTART;TZID=Asia/Shanghai:20200210T140000
DTEND;TZID=Asia/Shanghai:20200210T150000
DTSTAMP:20260422T163754
CREATED:20191212T033645Z
LAST-MODIFIED:20191212T033909Z
UID:10001639-1581343200-1581346800@www.swhpn.com.au
SUMMARY:Diabetes Telehealth | Diabetes and travel
DESCRIPTION:Delivered by Diabetes WA through a partnership with the WA Country Health Service\, Diabetes Telehealth builds diabetes management capacity in country WA by providing regular updates for health professionals with patients living with diabetes. The upskilling is delivered via videoconferencing technology (telehealth). Every month different diabetes-related topics are comprehensively covered\, sometimes by staff within Diabetes WA\, and sometimes by guest experts. Join us for some free professional development\, in the comfort of your own workplace or home. \nDiabetes and travel: Presented by Christine Carne\, RN\, CDE\, Diabetes WA. \n 
URL:https://www.swhpn.com.au/event/diabetes-telehealth-diabetes-and-travel/
LOCATION:WA\, Australia
CATEGORIES:Health Events
ORGANIZER;CN="Diabetes Telehealth":MAILTO:telehealth@diabeteswa.com.au
GEO:-27.6728168;121.6283098
END:VEVENT
END:VCALENDAR