BEGIN:VCALENDAR
VERSION:2.0
PRODID:-//South West Health Professionals Network - ECPv6.15.20//NONSGML v1.0//EN
CALSCALE:GREGORIAN
METHOD:PUBLISH
X-ORIGINAL-URL:https://www.swhpn.com.au
X-WR-CALDESC:Events for South West Health Professionals Network
REFRESH-INTERVAL;VALUE=DURATION:PT1H
X-Robots-Tag:noindex
X-PUBLISHED-TTL:PT1H
BEGIN:VTIMEZONE
TZID:Asia/Shanghai
BEGIN:STANDARD
TZOFFSETFROM:+0800
TZOFFSETTO:+0800
TZNAME:CST
DTSTART:20240101T000000
END:STANDARD
END:VTIMEZONE
BEGIN:VEVENT
DTSTART;TZID=Asia/Shanghai:20250703T190000
DTEND;TZID=Asia/Shanghai:20250703T200000
DTSTAMP:20260420T162727
CREATED:20250616T052510Z
LAST-MODIFIED:20250616T052510Z
UID:10002347-1751569200-1751572800@www.swhpn.com.au
SUMMARY:Adolescent and maternal vaccinations\, plus a mid-winter illness season report card | RACGP Webinar
DESCRIPTION:Infectious disease expert Professor Paul Effler will present WA data on coverage and safety for adolescent and maternal immunisations\, including the newly registered Abrysvo RSV vaccine.  He will also provide a ‘mid-winter report card’ on how WA is tracking with respect to important respiratory pathogens including influenza\, RSV and COVID-19. \nYou’ll have the opportunity to ask questions during the Q&A. If you have a question prior\, you can submit it upon registration. \nProf Paul Effler is the Senior Medical Advisor\, Communicable Disease Control Directorate\, Department of Health\, Western Australia. Hosted by GP Dr Ramya Raman. \nThis webinar is delivered in partnership with the Department of Health Western Australia. \nRegister here 
URL:https://www.swhpn.com.au/event/adolescent-and-maternal-vaccinations-plus-a-mid-winter-illness-season-report-card-racgp-webinar/
LOCATION:Online Webinar
CATEGORIES:Health Events
END:VEVENT
BEGIN:VEVENT
DTSTART;TZID=Asia/Shanghai:20250529T190000
DTEND;TZID=Asia/Shanghai:20250529T203000
DTSTAMP:20260420T162728
CREATED:20250423T004833Z
LAST-MODIFIED:20250423T004833Z
UID:10002332-1748545200-1748550600@www.swhpn.com.au
SUMMARY:Winter is coming! Protecting your patients through immunisation + Measles update | Webinar
DESCRIPTION:Join infectious disease expert Prof. Paul Effler for our annual influenza update as we prepare for this year’s flu season. \nThis webinar covers what to expect this winter\, including timings and eligibility as well as updates on influenza\, COVID and RSV. \nWith Measles cases on the rise in WA\, this webinar will also provide a useful update on Measles. \nLearning outcomes: \n1. Identify patients most likely to benefit from influenza vaccination this year\n2. Outline the factors that determine the optimal timing of seasonal influenza vaccinations\n3. Describe the impact of vaccination on serious illness in WA
URL:https://www.swhpn.com.au/event/winter-is-coming-protecting-your-patients-through-immunisation-measles-update-webinar/
LOCATION:Online Webinar
CATEGORIES:Health Events
END:VEVENT
END:VCALENDAR