BEGIN:VCALENDAR
VERSION:2.0
PRODID:-//South West Health Professionals Network - ECPv6.15.20//NONSGML v1.0//EN
CALSCALE:GREGORIAN
METHOD:PUBLISH
X-ORIGINAL-URL:https://www.swhpn.com.au
X-WR-CALDESC:Events for South West Health Professionals Network
REFRESH-INTERVAL;VALUE=DURATION:PT1H
X-Robots-Tag:noindex
X-PUBLISHED-TTL:PT1H
BEGIN:VTIMEZONE
TZID:Asia/Shanghai
BEGIN:STANDARD
TZOFFSETFROM:+0800
TZOFFSETTO:+0800
TZNAME:CST
DTSTART:20210101T000000
END:STANDARD
END:VTIMEZONE
BEGIN:VEVENT
DTSTART;TZID=Asia/Shanghai:20230414T120000
DTEND;TZID=Asia/Shanghai:20230414T130000
DTSTAMP:20260423T145948
CREATED:20230412T063538Z
LAST-MODIFIED:20230412T063538Z
UID:10002230-1681473600-1681477200@www.swhpn.com.au
SUMMARY:Carer Gateway Information Forums for Service Providers
DESCRIPTION:Service providers\, would you like to find out more about the Carer Gateway program and what supports are available to carers? Service providers are invited to attend an information forum to gain a better understanding of the Carer Gateway program\, the services and supports that carers can access\, and how to refer carers to join the program. \nWhere: Margaret River Community Centre\, 33 Tunbridge Street Margaret River\, WA 6285 \nWho: For service providers that engage with carers \nCost: Free | Registration essential \nSecure your place by ordering a free ticket\, or for more information email cyfs@helpingminds.org.au or call 1800 811 747.
URL:https://www.swhpn.com.au/event/carer-gateway-information-forums-for-service-providers/
LOCATION:33 Tunbridge St\, Margaret River WA 6285\, WA\, Australia
CATEGORIES:Health Events
GEO:-27.6728168;121.6283098
END:VEVENT
BEGIN:VEVENT
DTSTART;TZID=Asia/Shanghai:20221026T103000
DTEND;TZID=Asia/Shanghai:20221026T130000
DTSTAMP:20260423T145948
CREATED:20221005T105541Z
LAST-MODIFIED:20221005T105541Z
UID:10002192-1666780200-1666789200@www.swhpn.com.au
SUMMARY:Tuning into Teens
DESCRIPTION:Tuning into Teens\nRegister now for this free 6 week course!\nEvery Wednesday starting the 26th October from 10.30am to 1pm\nMargaret River Community Centre\nRegister: https://www.eventbrite.com.au/e/tuning-in-to-teens-margaret-river-tickets-419332804707
URL:https://www.swhpn.com.au/event/tuning-into-teens/
LOCATION:33 Tunbridge St\, Margaret River WA 6285\, WA\, Australia
CATEGORIES:Health Events
GEO:-27.6728168;121.6283098
END:VEVENT
END:VCALENDAR