BEGIN:VCALENDAR
VERSION:2.0
PRODID:-//South West Health Professionals Network - ECPv6.15.20//NONSGML v1.0//EN
CALSCALE:GREGORIAN
METHOD:PUBLISH
X-WR-CALNAME:South West Health Professionals Network
X-ORIGINAL-URL:https://www.swhpn.com.au
X-WR-CALDESC:Events for South West Health Professionals Network
REFRESH-INTERVAL;VALUE=DURATION:PT1H
X-Robots-Tag:noindex
X-PUBLISHED-TTL:PT1H
BEGIN:VTIMEZONE
TZID:Asia/Shanghai
BEGIN:STANDARD
TZOFFSETFROM:+0800
TZOFFSETTO:+0800
TZNAME:CST
DTSTART:20190101T000000
END:STANDARD
END:VTIMEZONE
BEGIN:VEVENT
DTSTART;TZID=Asia/Shanghai:20200430T193000
DTEND;TZID=Asia/Shanghai:20200430T203000
DTSTAMP:20260423T035237
CREATED:20200402T055944Z
LAST-MODIFIED:20200402T061838Z
UID:10001671-1588275000-1588278600@www.swhpn.com.au
SUMMARY:WEBINAR: WMA techniques in the treatment of digital neuropathic pain (Podiatry WA)
DESCRIPTION:Dr Shane Toohey is an AHPRA Registered Podiatrist & Acupuncturist who will present on the variety of techniques used for basic through to  advanced approaches with using western medical acupuncture in the treatment of this commonly seen podiatric condition. \nCPD certificate will be issued for attendance- 1 point. \nIf you are unable to attend but would still like to view the recording\, you must still register\, and the recording will be sent out after the webinar. \nMembers $10 \nNon Members $50 \nRegister here: https://podiatrywa.com.au/event-3798843
URL:https://www.swhpn.com.au/event/wma-techniques-in-the-treatment-of-digital-neuropathic-pain-podiatry-wa/
LOCATION:WA\, Australia
CATEGORIES:Health Events
GEO:-27.6728168;121.6283098
END:VEVENT
END:VCALENDAR