BEGIN:VCALENDAR
VERSION:2.0
PRODID:-//South West Health Professionals Network - ECPv6.15.20//NONSGML v1.0//EN
CALSCALE:GREGORIAN
METHOD:PUBLISH
X-WR-CALNAME:South West Health Professionals Network
X-ORIGINAL-URL:https://www.swhpn.com.au
X-WR-CALDESC:Events for South West Health Professionals Network
REFRESH-INTERVAL;VALUE=DURATION:PT1H
X-Robots-Tag:noindex
X-PUBLISHED-TTL:PT1H
BEGIN:VTIMEZONE
TZID:Asia/Shanghai
BEGIN:STANDARD
TZOFFSETFROM:+0800
TZOFFSETTO:+0800
TZNAME:CST
DTSTART:20220101T000000
END:STANDARD
END:VTIMEZONE
BEGIN:VEVENT
DTSTART;TZID=Asia/Shanghai:20230713T123000
DTEND;TZID=Asia/Shanghai:20230713T133000
DTSTAMP:20260423T085921
CREATED:20230424T032631Z
LAST-MODIFIED:20230614T055540Z
UID:10002237-1689251400-1689255000@www.swhpn.com.au
SUMMARY:Cardiothoracic Surgery Live Webinar
DESCRIPTION:Cardiothoracic Surgery Live Webinar \nRural Health West in conjunction with Heart Foundation\, WA Rheumatic Heart Disease Register and the Australian Cardiovascular Health and Rehabilitation Association invite you to this interactive webinar to assist health professionals working in rural areas with Cardiothoracic Surgery. \nHosted by: \n\n Helen McLean – Senior Healthcare Programs Officer\, Equity (WA)\n\nPresented by: \n\nNicole Skavik – Cardiac Rehabilitation CNS\, Heart Health Support Service\n\nWebinar overview \n\nCardiothoracic surgery\nManagement\nChallenges\nSolutions for those in rural and remote areas\n\nRegister here \nOnline registrations can be completed by clicking on the link. \n 
URL:https://www.swhpn.com.au/event/cardiothoracic-surgery-live-webinar/
LOCATION:Aloft Perth\, 27 Rowe Avenue\, Rivervale\, WA\, 6103\, Australia
CATEGORIES:Health Events
GEO:-31.9556341;115.9056986
X-APPLE-STRUCTURED-LOCATION;VALUE=URI;X-ADDRESS=Aloft Perth 27 Rowe Avenue Rivervale WA 6103 Australia;X-APPLE-RADIUS=500;X-TITLE=27 Rowe Avenue:geo:115.9056986,-31.9556341
END:VEVENT
BEGIN:VEVENT
DTSTART;TZID=Asia/Shanghai:20230617T080000
DTEND;TZID=Asia/Shanghai:20230618T193000
DTSTAMP:20260423T085921
CREATED:20230417T062903Z
LAST-MODIFIED:20230417T063058Z
UID:10002232-1686988800-1687116600@www.swhpn.com.au
SUMMARY:Rural Obstetrics and Gynaecology Forum
DESCRIPTION:Registrations are now open for the Rural Obstetrics and Gynaecology Forum! \nThis forum is part of the WA Country Health Service and Rural Health West Resident Specialist and Procedural GP Education Series. \nThe one and a half day Rural Obstetrics and Gynaecology Forum\, will include optional Friday workshops\, small problem-based discussions\, lectures and simulation sessions delivered concurrently and facilitated by experienced specialists.  The forum will provide an opportunity to network with fellow colleagues.\nThe forum has limited places.  Travel subsidies will apply for all eligible delegates living and working in rural and remote WA. \nEligibility \nOpen to all currently practicing GP Obstetricians\, Obstetric and Gynaecology Specialists and GP Registrars with Basic or Advanced DRANZCOG \nRegistration \nMore information and registration details are available from the Rural Health West website.
URL:https://www.swhpn.com.au/event/rural-obstetrics-and-gynaecology-forum-2/
LOCATION:Aloft Perth\, 27 Rowe Avenue\, Rivervale\, WA\, 6103\, Australia
CATEGORIES:Health Events
GEO:-31.9556341;115.9056986
X-APPLE-STRUCTURED-LOCATION;VALUE=URI;X-ADDRESS=Aloft Perth 27 Rowe Avenue Rivervale WA 6103 Australia;X-APPLE-RADIUS=500;X-TITLE=27 Rowe Avenue:geo:115.9056986,-31.9556341
END:VEVENT
END:VCALENDAR