BEGIN:VCALENDAR
VERSION:2.0
PRODID:-//South West Health Professionals Network - ECPv6.15.20//NONSGML v1.0//EN
CALSCALE:GREGORIAN
METHOD:PUBLISH
X-ORIGINAL-URL:https://www.swhpn.com.au
X-WR-CALDESC:Events for South West Health Professionals Network
REFRESH-INTERVAL;VALUE=DURATION:PT1H
X-Robots-Tag:noindex
X-PUBLISHED-TTL:PT1H
BEGIN:VTIMEZONE
TZID:Asia/Shanghai
BEGIN:STANDARD
TZOFFSETFROM:+0800
TZOFFSETTO:+0800
TZNAME:CST
DTSTART:20180101T000000
END:STANDARD
END:VTIMEZONE
BEGIN:VEVENT
DTSTART;TZID=Asia/Shanghai:20191026T090000
DTEND;TZID=Asia/Shanghai:20191026T220000
DTSTAMP:20260420T162732
CREATED:20191024T002155Z
LAST-MODIFIED:20191024T002155Z
UID:10001617-1572080400-1572127200@www.swhpn.com.au
SUMMARY:LiveLighter Blackwood Marathon Relay
DESCRIPTION:The Rotary Club of Bridgetown will again host the Blackwood Marathon in 2019.  Always held on the last Saturday of October\, the date for this year’s event is Saturday 26th October. \nThe Marathon is an annual relay race – first held in 1979 – consisting of five stages; running\, canoeing\, swimming\, horseriding and cycling. Based on the Marathon of classic Greece the aim is to take a message from Boyup Brook to Bridgetown by a series of team members with different transport methods who pass on a numbered bib from one team member to the next.  The Marathon is always held on the last Saturday of October each year. \nThe event commences at the Boyup Brook Oval and finishes in Bridgetown. \nThe event is made up of teams to include canoeing (8.5 km)\, swimming (1 km)\, running (12 km)\, cycling (20 km) and horse riding (16 km) as part of the relay.  The inclusion of the horse leg in the relay also requires that a veterinarian examine all horses before they start. \nThe event is open to all types of competitors ranging from Olympians such as Shane Gould and Robert De Castella to those who compete in a more casual way. \nThere are those sturdy individuals\, Iron Men and Women\, who compete in every leg. \nSet in beautiful countryside and the Blackwood River\, the event is great to watch from the spectator point of view. A useful map is available from the web site. \nFor more information please see www.blackwoodmarathon.org\, and for enquiries please contact blackwoodmarathon@gmail.com
URL:https://www.swhpn.com.au/event/livelighter-blackwood-marathon-relay/
LOCATION:Boyup Brook\, Boyup Brook\, WA\, 6244\, Australia
GEO:-33.8294715;116.3841139
END:VEVENT
END:VCALENDAR