BEGIN:VCALENDAR
VERSION:2.0
PRODID:-//South West Health Professionals Network - ECPv6.15.20//NONSGML v1.0//EN
CALSCALE:GREGORIAN
METHOD:PUBLISH
X-ORIGINAL-URL:https://www.swhpn.com.au
X-WR-CALDESC:Events for South West Health Professionals Network
REFRESH-INTERVAL;VALUE=DURATION:PT1H
X-Robots-Tag:noindex
X-PUBLISHED-TTL:PT1H
BEGIN:VTIMEZONE
TZID:Asia/Shanghai
BEGIN:STANDARD
TZOFFSETFROM:+0800
TZOFFSETTO:+0800
TZNAME:CST
DTSTART:20230101T000000
END:STANDARD
END:VTIMEZONE
BEGIN:VEVENT
DTSTART;TZID=Asia/Shanghai:20240824T093000
DTEND;TZID=Asia/Shanghai:20240825T143000
DTSTAMP:20260423T020343
CREATED:20240729T100315Z
LAST-MODIFIED:20240729T100315Z
UID:10002289-1724491800-1724596200@www.swhpn.com.au
SUMMARY:RACGP Early Career GP Conference
DESCRIPTION:If you have just received your Fellowship and wondering where to from here\, join this 2 day conference! \nhttps://www.racgp.org.au/racgp-digital-events-calendar/online-event-items/in-person/early-career-gp-conference
URL:https://www.swhpn.com.au/event/racgp-early-career-gp-conference/
LOCATION:Broadwater Resort Busselton\, Bussell Highway\, Busselton\, 6280\, Australia
CATEGORIES:Health Events
GEO:-33.6562452;115.3497043
X-APPLE-STRUCTURED-LOCATION;VALUE=URI;X-ADDRESS=Broadwater Resort Busselton Bussell Highway Busselton 6280 Australia;X-APPLE-RADIUS=500;X-TITLE=Bussell Highway:geo:115.3497043,-33.6562452
END:VEVENT
END:VCALENDAR