BEGIN:VCALENDAR
VERSION:2.0
PRODID:-//South West Health Professionals Network - ECPv6.15.20//NONSGML v1.0//EN
CALSCALE:GREGORIAN
METHOD:PUBLISH
X-ORIGINAL-URL:https://www.swhpn.com.au
X-WR-CALDESC:Events for South West Health Professionals Network
REFRESH-INTERVAL;VALUE=DURATION:PT1H
X-Robots-Tag:noindex
X-PUBLISHED-TTL:PT1H
BEGIN:VTIMEZONE
TZID:Asia/Shanghai
BEGIN:STANDARD
TZOFFSETFROM:+0800
TZOFFSETTO:+0800
TZNAME:CST
DTSTART:20220101T000000
END:STANDARD
END:VTIMEZONE
BEGIN:VEVENT
DTSTART;TZID=Asia/Shanghai:20230208T183000
DTEND;TZID=Asia/Shanghai:20230208T204500
DTSTAMP:20260424T002257
CREATED:20230202T031029Z
LAST-MODIFIED:20230202T031029Z
UID:10002212-1675881000-1675889100@www.swhpn.com.au
SUMMARY:Paperbark Conversations - Depression
DESCRIPTION:The Paperbark Wellness Project will be hosting an event foscussing on Depression in Busselton on Wednesday\, 8 February 2023. Come along\, listen to our experts\, and bring your stories or questions with you. The panellists for the evening will be Heather Lowndes (psychologist)\, Victoria Martin (naturopath)\, Dr Sarah Moore (GP) and Dr Katerina Zoetelief (chiropractor). More on the panellists can be found below. The MC for the evening will be Genevieve Morrissey (counsellor & PWP Coordinator). \nThis is a ticketed event with limited numbers. Tickets cost $22 + B/F (light nibbles inc). \nDate: Wednesday 8th February 2023 \nTime: 6.30pm for a 6.45pm start. Finishing at 8.45pm \nVenue: Busselton Golf Club\, 277 Chapman Hill Rd\, Busselton WA 6280 \nMore information is available from the website: \nhttps://www.thepaperbarkwellnessproject.au/paperbarkconversations-sleep \n 
URL:https://www.swhpn.com.au/event/paperbark-conversations-depression/
LOCATION:Busselton Golf Club\, 277 Chapman Hill Road\, Busselton\, WA\, 6280\, Australia
CATEGORIES:Health Events
GEO:-33.6916842;115.3633195
X-APPLE-STRUCTURED-LOCATION;VALUE=URI;X-ADDRESS=Busselton Golf Club 277 Chapman Hill Road Busselton WA 6280 Australia;X-APPLE-RADIUS=500;X-TITLE=277 Chapman Hill Road:geo:115.3633195,-33.6916842
END:VEVENT
END:VCALENDAR