BEGIN:VCALENDAR
VERSION:2.0
PRODID:-//South West Health Professionals Network - ECPv6.15.20//NONSGML v1.0//EN
CALSCALE:GREGORIAN
METHOD:PUBLISH
X-WR-CALNAME:South West Health Professionals Network
X-ORIGINAL-URL:https://www.swhpn.com.au
X-WR-CALDESC:Events for South West Health Professionals Network
REFRESH-INTERVAL;VALUE=DURATION:PT1H
X-Robots-Tag:noindex
X-PUBLISHED-TTL:PT1H
BEGIN:VTIMEZONE
TZID:Asia/Shanghai
BEGIN:STANDARD
TZOFFSETFROM:+0800
TZOFFSETTO:+0800
TZNAME:CST
DTSTART:20220101T000000
END:STANDARD
END:VTIMEZONE
BEGIN:VEVENT
DTSTART;TZID=Asia/Shanghai:20230720T170000
DTEND;TZID=Asia/Shanghai:20230720T193000
DTSTAMP:20260423T074630
CREATED:20230612T054637Z
LAST-MODIFIED:20230612T054637Z
UID:10002245-1689872400-1689881400@www.swhpn.com.au
SUMMARY:Collie Health Professionals Sundowner
DESCRIPTION:The South West Health Professionals Network invites our Collie health professionals and their support staff to our sundowner event at Collie Ridge Motel\, Collie. Light refreshments and canapés will be provided.  \nHurry places are limited! \nThis event is FREE for members of the South West Health Professionals Network – Visit our website to join as a member (membership is free).  \nFollow the link below to register.
URL:https://www.swhpn.com.au/event/collie-health-professionals-sundowner/
LOCATION:Collie Ridge Motel\, 185-195 Throssell Street\, Collie\, WA\, 6225
CATEGORIES:Health Events
GEO:-33.3576643;116.1440327
X-APPLE-STRUCTURED-LOCATION;VALUE=URI;X-ADDRESS=Collie Ridge Motel 185-195 Throssell Street Collie WA 6225;X-APPLE-RADIUS=500;X-TITLE=185-195 Throssell Street:geo:116.1440327,-33.3576643
END:VEVENT
END:VCALENDAR