BEGIN:VCALENDAR
VERSION:2.0
PRODID:-//South West Health Professionals Network - ECPv6.15.20//NONSGML v1.0//EN
CALSCALE:GREGORIAN
METHOD:PUBLISH
X-ORIGINAL-URL:https://www.swhpn.com.au
X-WR-CALDESC:Events for South West Health Professionals Network
REFRESH-INTERVAL;VALUE=DURATION:PT1H
X-Robots-Tag:noindex
X-PUBLISHED-TTL:PT1H
BEGIN:VTIMEZONE
TZID:Asia/Shanghai
BEGIN:STANDARD
TZOFFSETFROM:+0800
TZOFFSETTO:+0800
TZNAME:CST
DTSTART:20190101T000000
END:STANDARD
END:VTIMEZONE
BEGIN:VEVENT
DTSTART;TZID=Asia/Shanghai:20200610T080000
DTEND;TZID=Asia/Shanghai:20200610T170000
DTSTAMP:20260424T021310
CREATED:20200610T013251Z
LAST-MODIFIED:20200610T013251Z
UID:10001868-1591776000-1591808400@www.swhpn.com.au
SUMMARY:CRV70 MTB Marathon 2020
DESCRIPTION:16 August 2020\nCollie \n\nAfter a successful 2019 CRV50\, it is hopeful (COVID) that this awesome MTB event will hit the trails of the Collie River Valley again.The open event has been extended to 70km and will still include shorter distance options similar to other MTB Marathon Events. \nThe action kick’s off and finishes in the Collie CBD\, then heads north to the  Arklow MTB Trails with Rays Trail’ back into the mix – plus some new sections of singletrack that will be opened in the weeks leading up to the event. \nThere will be some great spectator points at the Harris River Winery and a couple of designated points on course that are close to bitumen access roads. \nMore information will be released closer to the date – but until then\, make sure you mark Sunday 16th August on the Calendar! \nFor further information visit the website. \n 
URL:https://www.swhpn.com.au/event/crv70-mtb-marathon-2020/
LOCATION:Crank’n Cycles\, 77 Steere St N\, Collie\, WA\, 6225\, Australia
GEO:-33.3582834;116.1552563
X-APPLE-STRUCTURED-LOCATION;VALUE=URI;X-ADDRESS=Crank’n Cycles 77 Steere St N Collie WA 6225 Australia;X-APPLE-RADIUS=500;X-TITLE=77 Steere St N:geo:116.1552563,-33.3582834
END:VEVENT
END:VCALENDAR