BEGIN:VCALENDAR
VERSION:2.0
PRODID:-//South West Health Professionals Network - ECPv6.15.20//NONSGML v1.0//EN
CALSCALE:GREGORIAN
METHOD:PUBLISH
X-WR-CALNAME:South West Health Professionals Network
X-ORIGINAL-URL:https://www.swhpn.com.au
X-WR-CALDESC:Events for South West Health Professionals Network
REFRESH-INTERVAL;VALUE=DURATION:PT1H
X-Robots-Tag:noindex
X-PUBLISHED-TTL:PT1H
BEGIN:VTIMEZONE
TZID:Asia/Shanghai
BEGIN:STANDARD
TZOFFSETFROM:+0800
TZOFFSETTO:+0800
TZNAME:CST
DTSTART:20180101T000000
END:STANDARD
END:VTIMEZONE
BEGIN:VEVENT
DTSTART;TZID=Asia/Shanghai:20200222T080000
DTEND;TZID=Asia/Shanghai:20200223T170000
DTSTAMP:20260420T175040
CREATED:20191128T013608Z
LAST-MODIFIED:20191215T233712Z
UID:10001543-1582358400-1582477200@www.swhpn.com.au
SUMMARY:Rural Emergency Medicine Forum 2020
DESCRIPTION:This forum is part of the WA Country Health Service and Rural Health West Resident Specialist and Procedural GP Education Series. \nThe one and a half day Rural Emergency Medicine Forum 2020\, will include lectures\, interactive discussions and sessions delivered concurrently and facilitated by experienced specialists.  The forum will provide an opportunity to network with fellow colleagues. \nEvent details \nDate: Saturday 22 and Sunday 23 February 2020 \nVenue: DoubleTree by Hilton Perth \nEligibility\n \n\nEmergency Doctors\nFACEM\nMedical Practitioners
URL:https://www.swhpn.com.au/event/rural-emergency-medicine-forum-2020/
LOCATION:DoubleTree by Hilton Perth\, 100 James St\, Perth\, WA\, 6003\, Australia
CATEGORIES:Health Events
GEO:-31.94828;115.85839
X-APPLE-STRUCTURED-LOCATION;VALUE=URI;X-ADDRESS=DoubleTree by Hilton Perth 100 James St Perth WA 6003 Australia;X-APPLE-RADIUS=500;X-TITLE=100 James St:geo:115.85839,-31.94828
END:VEVENT
BEGIN:VEVENT
DTSTART;TZID=Asia/Shanghai:20190921T080000
DTEND;TZID=Asia/Shanghai:20190921T170000
DTSTAMP:20260420T175040
CREATED:20190805T005808Z
LAST-MODIFIED:20190805T005808Z
UID:10001569-1569052800-1569085200@www.swhpn.com.au
SUMMARY:Rural Psychiatry and Mental Health Forum 2019
DESCRIPTION:Forum details\nThis forum is part of the WA Country Health Service and Rural Health West Resident Specialist Procedural GP Education Series. \nThe one-day Rural Psychiatry and Mental Health Forum 2019 will include lectures\, interactive discussions and sessions delivered concurrently over the day and facilitated by experienced specialists. The forum will provide an opportunity to network will fellow colleagues. \nEligibility\nOpen to all currently practicing medical practitioners\, psychiatrists\, psychologists and psychiatric liaison nurses.
URL:https://www.swhpn.com.au/event/rural-psychiatry-and-mental-health-forum-2019/
LOCATION:DoubleTree by Hilton Perth\, 100 James St\, Perth\, WA\, 6003\, Australia
CATEGORIES:Health Events
GEO:-31.94828;115.85839
X-APPLE-STRUCTURED-LOCATION;VALUE=URI;X-ADDRESS=DoubleTree by Hilton Perth 100 James St Perth WA 6003 Australia;X-APPLE-RADIUS=500;X-TITLE=100 James St:geo:115.85839,-31.94828
END:VEVENT
END:VCALENDAR