BEGIN:VCALENDAR
VERSION:2.0
PRODID:-//South West Health Professionals Network - ECPv6.15.20//NONSGML v1.0//EN
CALSCALE:GREGORIAN
METHOD:PUBLISH
X-WR-CALNAME:South West Health Professionals Network
X-ORIGINAL-URL:https://www.swhpn.com.au
X-WR-CALDESC:Events for South West Health Professionals Network
REFRESH-INTERVAL;VALUE=DURATION:PT1H
X-Robots-Tag:noindex
X-PUBLISHED-TTL:PT1H
BEGIN:VTIMEZONE
TZID:Asia/Shanghai
BEGIN:STANDARD
TZOFFSETFROM:+0800
TZOFFSETTO:+0800
TZNAME:CST
DTSTART:20230101T000000
END:STANDARD
END:VTIMEZONE
BEGIN:VEVENT
DTSTART;TZID=Asia/Shanghai:20240223T163000
DTEND;TZID=Asia/Shanghai:20240223T193000
DTSTAMP:20260420T160920
CREATED:20240220T090536Z
LAST-MODIFIED:20240220T090555Z
UID:10002269-1708705800-1708716600@www.swhpn.com.au
SUMMARY:WA Rural Health Long Service Awards 2024 | Perth
DESCRIPTION:WA Rural Health Long Service Awards  \nAwards Ceremony and Cocktail Function \nFriday 23 February 2024  I  4.30pm – 7.30pm  I  Fraser’s Kings Park\nCost: $60 per person (complimentary for long-service recipients and one guest)\nDress: Cocktail \nLong Service Awards are presented to general practitioners and medical specialists who have served rural and regional Western Australia for over 20 years.  These awards recognise the extensive commitment to providing health services\, often to many generations of the same family and their continued involvement in the community. \nNominations are not required for this category. The recipients of Long Service Awards are identified through the Rural Health West database and will be notified personally. \nAwards for 20\, 30 and 40 years of service will be presented on Friday 23 February 2024 at a special Long Service Awards Ceremony and Cocktail Function. \nColleagues\, family and friends are welcome to attend the Awards Ceremony and Cocktail Function.\nPlease note: Due to venue restrictions\, children under 18 are not permitted to attend. \nFor any queries\, please contact the Awards Coordinator awards@ruralhealthwest.com.au
URL:https://www.swhpn.com.au/event/wa-rural-health-long-service-awards-2024-perth/
LOCATION:Fraser’s Restaurant King’s Park\, 60 Fraser Avenue King's Park\, Perth\, WA\, 6005\, Australia
CATEGORIES:Health Events
ORGANIZER;CN="Rural Health West":MAILTO:info@ruralhealthwest.com.au
GEO:-31.9597392;115.8435348
X-APPLE-STRUCTURED-LOCATION;VALUE=URI;X-ADDRESS=Fraser’s Restaurant King’s Park 60 Fraser Avenue King's Park Perth WA 6005 Australia;X-APPLE-RADIUS=500;X-TITLE=60 Fraser Avenue King's Park:geo:115.8435348,-31.9597392
END:VEVENT
END:VCALENDAR