BEGIN:VCALENDAR
VERSION:2.0
PRODID:-//South West Health Professionals Network - ECPv6.15.20//NONSGML v1.0//EN
CALSCALE:GREGORIAN
METHOD:PUBLISH
X-WR-CALNAME:South West Health Professionals Network
X-ORIGINAL-URL:https://www.swhpn.com.au
X-WR-CALDESC:Events for South West Health Professionals Network
REFRESH-INTERVAL;VALUE=DURATION:PT1H
X-Robots-Tag:noindex
X-PUBLISHED-TTL:PT1H
BEGIN:VTIMEZONE
TZID:Asia/Shanghai
BEGIN:STANDARD
TZOFFSETFROM:+0800
TZOFFSETTO:+0800
TZNAME:CST
DTSTART:20230101T000000
END:STANDARD
END:VTIMEZONE
BEGIN:VEVENT
DTSTART;VALUE=DATE:20240504
DTEND;VALUE=DATE:20240506
DTSTAMP:20260423T031938
CREATED:20240220T093516Z
LAST-MODIFIED:20240220T093516Z
UID:10002272-1714780800-1714953599@www.swhpn.com.au
SUMMARY:Rural Outdoor Adventure Race (ROAR) I Kings Park
DESCRIPTION:This event provides an opportunity for junior doctors and medical students to learn\, experience and practice elements of emergency care in a stimulating wilderness environment around King’s Park in Western Australia. Your team will work together under Perth’s best emergency physicians to diagnose\, stabilise and ‘save lives’. \nThe teaching and learning priorities for each scenario are: \n\nScene safety and management of the environment\nA structured approach to the assessment of the critically ill patient (DRSABCDE)\nPrioritised supportive and specific management of the clinical conditions\nStabilisation and transport planning including basic necessities of the patient and group\nLeadership\, teamwork and communication\n\nInclusions \n\n1.5 day education program\nMorning tea\, lunch & afternoon tea Saturday\nMorning tea & lunch Sunday\nEvent handbook\nRural Health West backpack\nRural Health West water bottle\nRural Health West hat\n\nEligibility: Final year medical students\, Interns (PGY1)\, PGY2 and PGY3. \nLength: 1.5 days \nCost: $200 (Inc. GST) \nClick HERE for further information.
URL:https://www.swhpn.com.au/event/rural-outdoor-adventure-race-roar-i-kings-park/
LOCATION:Kings Park\, Fraser Ave\, Perth\, Western Australia\, Australia
CATEGORIES:Health Events
ORGANIZER;CN="Rural Health West":MAILTO:info@ruralhealthwest.com.au
GEO:-31.9567984;115.8441691
X-APPLE-STRUCTURED-LOCATION;VALUE=URI;X-ADDRESS=Kings Park Fraser Ave Perth Western Australia Australia;X-APPLE-RADIUS=500;X-TITLE=Fraser Ave:geo:115.8441691,-31.9567984
END:VEVENT
END:VCALENDAR