BEGIN:VCALENDAR
VERSION:2.0
PRODID:-//South West Health Professionals Network - ECPv6.15.20//NONSGML v1.0//EN
CALSCALE:GREGORIAN
METHOD:PUBLISH
X-WR-CALNAME:South West Health Professionals Network
X-ORIGINAL-URL:https://www.swhpn.com.au
X-WR-CALDESC:Events for South West Health Professionals Network
REFRESH-INTERVAL;VALUE=DURATION:PT1H
X-Robots-Tag:noindex
X-PUBLISHED-TTL:PT1H
BEGIN:VTIMEZONE
TZID:Asia/Shanghai
BEGIN:STANDARD
TZOFFSETFROM:+0800
TZOFFSETTO:+0800
TZNAME:CST
DTSTART:20210101T000000
END:STANDARD
END:VTIMEZONE
BEGIN:VEVENT
DTSTART;TZID=Asia/Shanghai:20221027T093000
DTEND;TZID=Asia/Shanghai:20221027T140000
DTSTAMP:20260423T130032
CREATED:20221017T034317Z
LAST-MODIFIED:20221017T034317Z
UID:10001931-1666863000-1666879200@www.swhpn.com.au
SUMMARY:Chronic Disease Care in Private Practice
DESCRIPTION:Presented by GP Down South and Silverchain. \nEducation Day open to Practice Nurses/GP’s. Program includes: \n\n9:30am Registration\, Welcome and Morning Tea\n10:00am Cardiac failure\, pathophysiology and resources\n10:45am What’s new in Diabetes Care?\n11:30am Chronic Pain\n12:15pm to 1:00pm Lunch\n1:00pm The role of the Exercise Physiologist and when to refer\n2:00pm Close\n\nRSVP: leew@gpdownsouth.com.au including any dietary requirements by Friday 21st October 2022.
URL:https://www.swhpn.com.au/event/chronic-disease-care-in-private-practice-2/
LOCATION:Manjimup Community Resource Centre (Ring Bark Room)\, Manjimup
CATEGORIES:Health Events
END:VEVENT
END:VCALENDAR