BEGIN:VCALENDAR
VERSION:2.0
PRODID:-//South West Health Professionals Network - ECPv6.15.20//NONSGML v1.0//EN
CALSCALE:GREGORIAN
METHOD:PUBLISH
X-ORIGINAL-URL:https://www.swhpn.com.au
X-WR-CALDESC:Events for South West Health Professionals Network
REFRESH-INTERVAL;VALUE=DURATION:PT1H
X-Robots-Tag:noindex
X-PUBLISHED-TTL:PT1H
BEGIN:VTIMEZONE
TZID:Asia/Shanghai
BEGIN:STANDARD
TZOFFSETFROM:+0800
TZOFFSETTO:+0800
TZNAME:CST
DTSTART:20190101T000000
END:STANDARD
END:VTIMEZONE
BEGIN:VEVENT
DTSTART;TZID=Asia/Shanghai:20200802T080000
DTEND;TZID=Asia/Shanghai:20200802T100000
DTSTAMP:20260424T013917
CREATED:20200610T012921Z
LAST-MODIFIED:20200610T012921Z
UID:10001866-1596355200-1596362400@www.swhpn.com.au
SUMMARY:2020 Vestrum Women’s Fun Run & Walk
DESCRIPTION:2 August 2020\n8:00 AM – 10:00 AM\nPat Usher Memorial Promenade\, Bunbury WA 6230 \nThe event is celebrating its 14th year highlighting the continued success with participation from females in the Bunbury area\, South West and beyond. The course will be one (5km – run or walk) or two (10km – run) laps of the inlet starting at the Pat Usher Promenade.  The ‘princess run’ has been really well received by those under 8 years of age and it will be held again this year. Log onto the website below for more details. \nFor further information visit: https://www.bunburyrunnersclub.org.au/events/womens-fun-run/
URL:https://www.swhpn.com.au/event/2020-vestrum-womens-fun-run-walk/
LOCATION:Pat Usher Memorial Promenade\, Bunbury WA 6230\, Pat Usher Memorial Promenade\, Bunbury\, WA\, 6230\, Australia
GEO:-33.3236837;115.639564
X-APPLE-STRUCTURED-LOCATION;VALUE=URI;X-ADDRESS=Pat Usher Memorial Promenade Bunbury WA 6230 Pat Usher Memorial Promenade Bunbury WA 6230 Australia;X-APPLE-RADIUS=500;X-TITLE=Pat Usher Memorial Promenade:geo:115.639564,-33.3236837
END:VEVENT
END:VCALENDAR