BEGIN:VCALENDAR
VERSION:2.0
PRODID:-//South West Health Professionals Network - ECPv6.15.20//NONSGML v1.0//EN
CALSCALE:GREGORIAN
METHOD:PUBLISH
X-ORIGINAL-URL:https://www.swhpn.com.au
X-WR-CALDESC:Events for South West Health Professionals Network
REFRESH-INTERVAL;VALUE=DURATION:PT1H
X-Robots-Tag:noindex
X-PUBLISHED-TTL:PT1H
BEGIN:VTIMEZONE
TZID:Asia/Shanghai
BEGIN:STANDARD
TZOFFSETFROM:+0800
TZOFFSETTO:+0800
TZNAME:CST
DTSTART:20220101T000000
END:STANDARD
END:VTIMEZONE
BEGIN:VEVENT
DTSTART;TZID=Asia/Shanghai:20230729T090000
DTEND;TZID=Asia/Shanghai:20230729T160000
DTSTAMP:20260423T062346
CREATED:20230628T082102Z
LAST-MODIFIED:20230628T082102Z
UID:10002248-1690621200-1690646400@www.swhpn.com.au
SUMMARY:Early Career GP Conference
DESCRIPTION:The RACGP WA New Fellows Committee present the 2023 Early Career GP Conference. Join us as we take you through the first-five years post-Fellowship. We’ll explore the decisions and challenges you will face\, and arm you with the knowledge and advice to prepare you for what’s ahead.  This must-attend one-day conference explores: \n\nControl your money… or your money will control you – My Millennial Money podcast host Dr Dev Raga (via Zoom)\nTop tips for New Fellows – Dr Mary Wyatt\nThe art of consulting – Dr Sean Stevens\nBill like a pro + avoiding Medicare pitfalls – Dr Jags Krishnan\nSole trader 101: BAS and Tax  – Rosa Murray\nFinancial planning – Shaun Clements\nNew Fellows panel\nNetworking with fellow new GPs and speakers\n\nDesigned by GPs for GPs\, the conference offers relevant topics in a relaxed setting\, followed by a sundowner to unwind afterwards. Partners are welcome to join the sundowner complimentary from 4.00 pm. \nAre you a rural GP attending the conference?\nRural Health West are offering 10 partial travel subsidies for attendees working in rural locations. Travel subsidies of up to $500 (depending on the Modified Monash (MM) location) will be reimbursed by Rural Health West upon receipt of satisfactory travel/airline invoices or fuel receipts. To apply for a subsidy\, contact hwsp@ruralhw.com.au \nRegister now
URL:https://www.swhpn.com.au/event/early-career-gp-conference/
LOCATION:QT hotel\, 133 Murray Street\, Perth\, WA\, 6280
CATEGORIES:Health Events
GEO:-31.9538678;115.8610026
X-APPLE-STRUCTURED-LOCATION;VALUE=URI;X-ADDRESS=QT hotel 133 Murray Street Perth WA 6280;X-APPLE-RADIUS=500;X-TITLE=133 Murray Street:geo:115.8610026,-31.9538678
END:VEVENT
END:VCALENDAR