BEGIN:VCALENDAR
VERSION:2.0
PRODID:-//South West Health Professionals Network - ECPv6.15.20//NONSGML v1.0//EN
CALSCALE:GREGORIAN
METHOD:PUBLISH
X-ORIGINAL-URL:https://www.swhpn.com.au
X-WR-CALDESC:Events for South West Health Professionals Network
REFRESH-INTERVAL;VALUE=DURATION:PT1H
X-Robots-Tag:noindex
X-PUBLISHED-TTL:PT1H
BEGIN:VTIMEZONE
TZID:Asia/Shanghai
BEGIN:STANDARD
TZOFFSETFROM:+0800
TZOFFSETTO:+0800
TZNAME:CST
DTSTART:20220101T000000
END:STANDARD
END:VTIMEZONE
BEGIN:VEVENT
DTSTART;TZID=Asia/Shanghai:20230208T181500
DTEND;TZID=Asia/Shanghai:20230208T200000
DTSTAMP:20260423T114915
CREATED:20221219T041744Z
LAST-MODIFIED:20240220T055756Z
UID:10001938-1675880100-1675886400@www.swhpn.com.au
SUMMARY:SCARP Series - FREE events for GPs\, GP Registrars & Hospital Doctors!
DESCRIPTION:We have a new acronym… Sharing the Challenges & Appreciation of Rural Practice (SCARP)! \nWorking as a rural and remote doctor can be a steep slope of learning. Join the South West medical community for relaxed and interactive sessions exploring unique case presentations and experiences from local hospital doctors and GPs. Medical students welcome. \nSee SCARPsouthwest.eventbrite.com for up-coming events and to register.
URL:https://www.swhpn.com.au/event/scarp-series-free-events-for-gps-gp-registrars-hospital-doctors/
LOCATION:RCSWA Bunbury\, ECU Building 3\, 585 Robertson Drive\, Bunbury\, WA\, 6230\, Australia
CATEGORIES:Health Events
GEO:-33.3683405;115.6547836
X-APPLE-STRUCTURED-LOCATION;VALUE=URI;X-ADDRESS=RCSWA Bunbury ECU Building 3 585 Robertson Drive Bunbury WA 6230 Australia;X-APPLE-RADIUS=500;X-TITLE=ECU Building 3\, 585 Robertson Drive:geo:115.6547836,-33.3683405
END:VEVENT
END:VCALENDAR