BEGIN:VCALENDAR
VERSION:2.0
PRODID:-//South West Health Professionals Network - ECPv6.15.20//NONSGML v1.0//EN
CALSCALE:GREGORIAN
METHOD:PUBLISH
X-ORIGINAL-URL:https://www.swhpn.com.au
X-WR-CALDESC:Events for South West Health Professionals Network
REFRESH-INTERVAL;VALUE=DURATION:PT1H
X-Robots-Tag:noindex
X-PUBLISHED-TTL:PT1H
BEGIN:VTIMEZONE
TZID:Asia/Shanghai
BEGIN:STANDARD
TZOFFSETFROM:+0800
TZOFFSETTO:+0800
TZNAME:CST
DTSTART:20220101T000000
END:STANDARD
END:VTIMEZONE
BEGIN:VEVENT
DTSTART;TZID=Asia/Shanghai:20230128T090000
DTEND;TZID=Asia/Shanghai:20230128T113000
DTSTAMP:20260424T001828
CREATED:20230118T065704Z
LAST-MODIFIED:20230118T065704Z
UID:10001945-1674896400-1674905400@www.swhpn.com.au
SUMMARY:FREE Youth wellness program for 12-17 yrs
DESCRIPTION:So…what is surf therapy?\nSurf therapy is an exciting area of therapeutic intervention that has a growing body of evidence for its effectiveness with mental health difficulties. It is also a great way to maintain good mental health. Flowstate’s 4 week Youth Wellness Surf Program for Young people 12-17. These programs are designed for Young People who want to learn to surf or improve their surfing\, while also leaning skills for their mental and emotional wellbeing in a fun and social environment. These programs are FREE as they are funded by the AMR Shire and delivered by two mental health therapists and a teacher. Participants will need transport to and from Redgate beach. \nWhen:  Saturday 28 January 2023 \nWhere: Redgate Beach\, Redgate WA \nTime:  9.00am to 11.30am \nIf you or someone you know is interested please email info@flowstate.org.au and they will send you a brief registration form. \n 
URL:https://www.swhpn.com.au/event/free-youth-wellness-program-for-12-17-yrs/
LOCATION:Redgate Beach\, Redgate Road\, Redgate WA\, WA\, Australia
CATEGORIES:Health Events
GEO:-27.6728168;121.6283098
END:VEVENT
END:VCALENDAR