BEGIN:VCALENDAR
VERSION:2.0
PRODID:-//South West Health Professionals Network - ECPv6.15.20//NONSGML v1.0//EN
CALSCALE:GREGORIAN
METHOD:PUBLISH
X-WR-CALNAME:South West Health Professionals Network
X-ORIGINAL-URL:https://www.swhpn.com.au
X-WR-CALDESC:Events for South West Health Professionals Network
REFRESH-INTERVAL;VALUE=DURATION:PT1H
X-Robots-Tag:noindex
X-PUBLISHED-TTL:PT1H
BEGIN:VTIMEZONE
TZID:Asia/Shanghai
BEGIN:STANDARD
TZOFFSETFROM:+0800
TZOFFSETTO:+0800
TZNAME:CST
DTSTART:20180101T000000
END:STANDARD
END:VTIMEZONE
BEGIN:VEVENT
DTSTART;TZID=Asia/Shanghai:20190831T183000
DTEND;TZID=Asia/Shanghai:20190831T213000
DTSTAMP:20260423T044744
CREATED:20190718T005518Z
LAST-MODIFIED:20190905T004750Z
UID:10001566-1567276200-1567287000@www.swhpn.com.au
SUMMARY:CinefestOZ | Who's Laughing Now? at the Rose
DESCRIPTION:Revenge may be a dish best served cold but that doesn’t mean it can’t be hilarious too! \nSaturday night in Bunbury is where the laughter happens\, so grab a drink\, sit back\, relax and get ready to laugh out loud at this night of comedy short films at The Rose Hotel. \nThe evening is hosted by a stand-up comedian who will keep the night upbeat\, as the program of fresh and funny films rolls out.
URL:https://www.swhpn.com.au/event/cinefestoz-whos-laughing-now-at-the-rose/
LOCATION:Rose Hotel\, 27 Wellington Street\, Bunbury\, WA\, 6230\, Australia
GEO:-33.32454;115.63733
X-APPLE-STRUCTURED-LOCATION;VALUE=URI;X-ADDRESS=Rose Hotel 27 Wellington Street Bunbury WA 6230 Australia;X-APPLE-RADIUS=500;X-TITLE=27 Wellington Street:geo:115.63733,-33.32454
END:VEVENT
END:VCALENDAR