BEGIN:VCALENDAR
VERSION:2.0
PRODID:-//South West Health Professionals Network - ECPv6.15.20//NONSGML v1.0//EN
CALSCALE:GREGORIAN
METHOD:PUBLISH
X-WR-CALNAME:South West Health Professionals Network
X-ORIGINAL-URL:https://www.swhpn.com.au
X-WR-CALDESC:Events for South West Health Professionals Network
REFRESH-INTERVAL;VALUE=DURATION:PT1H
X-Robots-Tag:noindex
X-PUBLISHED-TTL:PT1H
BEGIN:VTIMEZONE
TZID:Asia/Shanghai
BEGIN:STANDARD
TZOFFSETFROM:+0800
TZOFFSETTO:+0800
TZNAME:CST
DTSTART:20180101T000000
END:STANDARD
END:VTIMEZONE
BEGIN:VEVENT
DTSTART;TZID=Asia/Shanghai:20191130T180000
DTEND;TZID=Asia/Shanghai:20191130T235900
DTSTAMP:20260422T163744
CREATED:20191104T012518Z
LAST-MODIFIED:20191104T012518Z
UID:10001532-1575136800-1575158340@www.swhpn.com.au
SUMMARY:South West Autism Network - Fundraising Concert
DESCRIPTION:Join us for a night of live music from premier South West musicians Jason Pritchard\, Matt Duane\, Charlee Jones\, Luke Skehan\, Stefano Dagostino and Jack Resta. Dance the night away with a live DJ til close. Full bar and food options available\, as well as raffle/prize giveaways. Get your friends together for a night not to be missed! \nAll proceeds from the event will go directly to the South West Autism Network. SWAN is a not for profit organisation providing free and accessible support and advocacy for individuals and families living with Autism Spectrum Disorder (diagnosed or not diagnosed). Together we can celebrate the amazing contributions that Autistic Individuals and their families make to our community and promote Autism Acceptance. \nThere will be raffles and prizes on the night. Check out the Facebook page to see the prizes so far https://www.facebook.com/events/495043527738078/ \nPlease share this event with others who may be interested. \nTickets only $20 and available from\nhttps://www.trybooking.com/BFKRD \nFollow the link below to donate to our go fund me page!\nhttps://www.gofundme.com/f/pg2v8q-a-cause-i-care-about-needs-help
URL:https://www.swhpn.com.au/event/south-west-autism-network-fundraising-concert/
LOCATION:South West Italian Club\, 13 White St\, East Bunbury\, WA\, 6230\, Australia
GEO:-33.3353673;115.6567721
X-APPLE-STRUCTURED-LOCATION;VALUE=URI;X-ADDRESS=South West Italian Club 13 White St East Bunbury WA 6230 Australia;X-APPLE-RADIUS=500;X-TITLE=13 White St:geo:115.6567721,-33.3353673
END:VEVENT
END:VCALENDAR