BEGIN:VCALENDAR
VERSION:2.0
PRODID:-//South West Health Professionals Network - ECPv6.15.20//NONSGML v1.0//EN
CALSCALE:GREGORIAN
METHOD:PUBLISH
X-WR-CALNAME:South West Health Professionals Network
X-ORIGINAL-URL:https://www.swhpn.com.au
X-WR-CALDESC:Events for South West Health Professionals Network
REFRESH-INTERVAL;VALUE=DURATION:PT1H
X-Robots-Tag:noindex
X-PUBLISHED-TTL:PT1H
BEGIN:VTIMEZONE
TZID:Asia/Shanghai
BEGIN:STANDARD
TZOFFSETFROM:+0800
TZOFFSETTO:+0800
TZNAME:CST
DTSTART:20180101T000000
END:STANDARD
END:VTIMEZONE
BEGIN:VEVENT
DTSTART;TZID=Asia/Shanghai:20231012T173000
DTEND;TZID=Asia/Shanghai:20231012T200000
DTSTAMP:20260422T181451
CREATED:20230912T032122Z
LAST-MODIFIED:20230912T032122Z
UID:10001993-1697131800-1697140800@www.swhpn.com.au
SUMMARY:Wound Care Workshop | Bunbury
DESCRIPTION:South West health professionals are invited to an educational evening with Geoff Duggan RN\, clinical operations consultant at Clinical Design Solutions. Geoff Duggan is a registered nurse and clinical operations consultant working across community and hospital settings in Perth. \nGeoff is completing his Masters in Wound\, Continence and Ostomy Nursing through Curtin University as well as having completed an MBA with a leadership major through Curtin University in 2019. Geoff’s clinical experience includes wound management as well as respiratory\, oncology\, palliative care\, mental health and homeless healthcare. Commercially\, Geoff has worked in the wound care industry over a 15-year period across community\, hospital and pharmacy sectors. \nThis education evening will focus on assessment and treatment of challenging wounds in healthcare and include a wound care services update from Fiona Basham (Continence Nurse/Stomal Therapist)\, St John of God Bunbury Hospital. \nREGISTER HERE \nThis event is FREE for members of the South West Health Professionals Network – Visit swhpn.com.au/network to join as a member (membership is free). For more information\, please email SWHPN Program Officer at contact@swhpn.com.au
URL:https://www.swhpn.com.au/event/wound-care-workshop-bunbury/
LOCATION:St John of God Bunbury Hospital\, 700 Robertson Drive\, College Grove\, WA\, 6230\, Australia
CATEGORIES:Health Events
ATTACH;FMTTYPE=image/png:https://www.swhpn.com.au/wp-content/uploads/2023/09/SWHPN_Wound_management-12Oct_FB_event_image_430x225px.png
GEO:-33.3665905;115.6482766
X-APPLE-STRUCTURED-LOCATION;VALUE=URI;X-ADDRESS=St John of God Bunbury Hospital 700 Robertson Drive College Grove WA 6230 Australia;X-APPLE-RADIUS=500;X-TITLE=700 Robertson Drive:geo:115.6482766,-33.3665905
END:VEVENT
BEGIN:VEVENT
DTSTART;TZID=Asia/Shanghai:20230329T180000
DTEND;TZID=Asia/Shanghai:20230329T200000
DTSTAMP:20260422T181451
CREATED:20230315T055153Z
LAST-MODIFIED:20230315T055153Z
UID:10002222-1680112800-1680120000@www.swhpn.com.au
SUMMARY:Education Series: Respiratory
DESCRIPTION:Education Series: Respiratory \nSouth West health professionals are invited to come along to an educational evening with Dr Christian de Chaneet. Dr de Chaneet is a sleep and respiratory physician who will share his knowledge and expertise on chronic obstructive pulmonary disease\, bronchiectasis and interstitial lung disease. General practitioners\, nursing and allied health professionals are encouraged to attend. \nThis event is FREE for members of the South West Health Professionals Network – Visit swhpn.com.au/network to join as a member (membership is free). For more information\, please email SWHPN Program Officer Jolijn Thompson at contact@swhpn.com.au \nDate:      Wednesday\, 29 March 2023 \nTime:     6.00pm to 8.00pm \nVenue:   St John of God Bunbury Hospital (conference room) \nTo register follow please follow the link.
URL:https://www.swhpn.com.au/event/education-series-respiratory/
LOCATION:St John of God Bunbury Hospital\, 700 Robertson Drive\, College Grove\, WA\, 6230\, Australia
CATEGORIES:Health Events
GEO:-33.3665905;115.6482766
X-APPLE-STRUCTURED-LOCATION;VALUE=URI;X-ADDRESS=St John of God Bunbury Hospital 700 Robertson Drive College Grove WA 6230 Australia;X-APPLE-RADIUS=500;X-TITLE=700 Robertson Drive:geo:115.6482766,-33.3665905
END:VEVENT
BEGIN:VEVENT
DTSTART;TZID=Asia/Shanghai:20230208T093000
DTEND;TZID=Asia/Shanghai:20230208T130000
DTSTAMP:20260422T181451
CREATED:20230118T033522Z
LAST-MODIFIED:20230118T033522Z
UID:10001943-1675848600-1675861200@www.swhpn.com.au
SUMMARY:SWHPN Pop up stand
DESCRIPTION:Come and meet South West HPN Regional Program Officer Jolijn Thompson and learn more about the South West Health Professionals Network and how we provide education and networking events in the South West. \nWhere:   St John of God Bunbury Hospital Café\, 700 Robertson Drive\, College Grove\nWhen:    Wednesday 8 February 2023\nTime:      9.30am to 1.00pm \nPlease contact jolijn.thompson@swhpn.com.au if you would like more information. \nWe look forward to seeing you there.
URL:https://www.swhpn.com.au/event/swhpn-pop-up-stand/
LOCATION:St John of God Bunbury Hospital\, 700 Robertson Drive\, College Grove\, WA\, 6230\, Australia
CATEGORIES:Health Events
GEO:-33.3665905;115.6482766
X-APPLE-STRUCTURED-LOCATION;VALUE=URI;X-ADDRESS=St John of God Bunbury Hospital 700 Robertson Drive College Grove WA 6230 Australia;X-APPLE-RADIUS=500;X-TITLE=700 Robertson Drive:geo:115.6482766,-33.3665905
END:VEVENT
BEGIN:VEVENT
DTSTART;TZID=Asia/Shanghai:20191028T180000
DTEND;TZID=Asia/Shanghai:20191028T190000
DTSTAMP:20260422T181451
CREATED:20191024T001543Z
LAST-MODIFIED:20191024T001543Z
UID:10001615-1572285600-1572289200@www.swhpn.com.au
SUMMARY:Lishman Health Foundation Presentation of Annual Report and AGM
DESCRIPTION:The Lishman Health Foundation is pleased to welcome our members\, life members\, supporters\, donors\, and volunteers to the Presentation of the 2019 Annual Report and Annual General Meeting. \nIn appreciation of your ongoing support of the Foundation\, please join us for some light refreshments as we celebrate our achievements from 2019 and share our plans for the future direction of the Foundation in 2020. \n6.00pm – Presentation of the 2019 Annual Report and Light Refreshments \n6.45pm – Annual General Meeting \nFollowing the Presentation of the Annual Report\, members and supporters are invited to stay for the 2019 Annual General Meeting at 6.45pm. Please note\, that only members will have voting rights at the AGM. \nThe AGM is a wonderful opportunity for our members to be involved in welcoming the newly appointed Lishman Health Foundation Board Members\, and reflect on the significant work of the Foundation throughout 2018 and 2019. \nWe look forward to seeing you.
URL:https://www.swhpn.com.au/event/lishman-health-foundation-presentation-of-annual-report-and-agm/
LOCATION:St John of God Bunbury Hospital\, 700 Robertson Drive\, College Grove\, WA\, 6230\, Australia
CATEGORIES:Health Events
GEO:-33.3665905;115.6482766
X-APPLE-STRUCTURED-LOCATION;VALUE=URI;X-ADDRESS=St John of God Bunbury Hospital 700 Robertson Drive College Grove WA 6230 Australia;X-APPLE-RADIUS=500;X-TITLE=700 Robertson Drive:geo:115.6482766,-33.3665905
END:VEVENT
END:VCALENDAR