BEGIN:VCALENDAR
VERSION:2.0
PRODID:-//South West Health Professionals Network - ECPv6.15.20//NONSGML v1.0//EN
CALSCALE:GREGORIAN
METHOD:PUBLISH
X-ORIGINAL-URL:https://www.swhpn.com.au
X-WR-CALDESC:Events for South West Health Professionals Network
REFRESH-INTERVAL;VALUE=DURATION:PT1H
X-Robots-Tag:noindex
X-PUBLISHED-TTL:PT1H
BEGIN:VTIMEZONE
TZID:Asia/Shanghai
BEGIN:STANDARD
TZOFFSETFROM:+0800
TZOFFSETTO:+0800
TZNAME:CST
DTSTART:20220101T000000
END:STANDARD
END:VTIMEZONE
BEGIN:VEVENT
DTSTART;TZID=Asia/Shanghai:20231127T083000
DTEND;TZID=Asia/Shanghai:20231128T163000
DTSTAMP:20260423T062312
CREATED:20231123T034947Z
LAST-MODIFIED:20231123T034947Z
UID:10002250-1701073800-1701189000@www.swhpn.com.au
SUMMARY:Children's Asthma Hub | Bunbury
DESCRIPTION:The Children’s Asthma Hub provides a coordinated and centralised service with a paediatric asthma care team to facilitate a comprehensive assessment at each visit. We are currently the only service to offer a peadiatric-specific lung function service in the community.\n\nAll services are bulk-billed with no out of pocket expenses charged to the patient.\n\nDetails for the Bunbury Children’s Asthma Hub:\n November 27th – 28th\, 2023\n 8:30am – 4:30pm\n SJOG Specialist Centre – 114 Spencer Street\, Bunbury\n\nIn each appointment\, patients can expect:\n\n\nRespiratory health education with a Respiratory Health Nurse;\n\n\nLung function testing; and\n\n\nAnalysis by a respiratory specialist and prompt receipt of results.\n\n\nIf you have a patient aged 4-18 years residing in the South West region with suspected asthma or another respiratory condition\, you can make a referral via this link HERE.\n\nChildren’s Asthma Hub are also happy to see adults for lung function testing and education\, and our Adult Respiratory Specialist will review these. Referrals can be submitted through the same link.\n\nFor further information about this service or how to refer\, please call Children’s Asthma Hub on (08) 9289 3600. We look forward to being in Bunbury and providing our dedicated services during the visit.
URL:https://www.swhpn.com.au/event/childrens-asthma-hub-bunbury/
LOCATION:St John of God Specialist Centre\, 114 Spencer Street\, Bunbury\, Australia
CATEGORIES:Health Events
ORGANIZER;CN="Asthma WA":MAILTO:ask@asthmawa.org.au
GEO:-33.3378503;115.6399388
X-APPLE-STRUCTURED-LOCATION;VALUE=URI;X-ADDRESS=St John of God Specialist Centre 114 Spencer Street Bunbury Australia;X-APPLE-RADIUS=500;X-TITLE=114 Spencer Street:geo:115.6399388,-33.3378503
END:VEVENT
END:VCALENDAR