BEGIN:VCALENDAR
VERSION:2.0
PRODID:-//South West Health Professionals Network - ECPv6.15.20//NONSGML v1.0//EN
CALSCALE:GREGORIAN
METHOD:PUBLISH
X-ORIGINAL-URL:https://www.swhpn.com.au
X-WR-CALDESC:Events for South West Health Professionals Network
REFRESH-INTERVAL;VALUE=DURATION:PT1H
X-Robots-Tag:noindex
X-PUBLISHED-TTL:PT1H
BEGIN:VTIMEZONE
TZID:Asia/Shanghai
BEGIN:STANDARD
TZOFFSETFROM:+0800
TZOFFSETTO:+0800
TZNAME:CST
DTSTART:20180101T000000
END:STANDARD
END:VTIMEZONE
BEGIN:VEVENT
DTSTART;TZID=Asia/Shanghai:20190709T100000
DTEND;TZID=Asia/Shanghai:20190709T150000
DTSTAMP:20260423T021150
CREATED:20190709T003752Z
LAST-MODIFIED:20190905T004742Z
UID:10001525-1562666400-1562684400@www.swhpn.com.au
SUMMARY:Waroona 2019 NAIDOC Showcase
DESCRIPTION:A day of fun activities including from 10am – 3pm – arts and crafts\, dancers\, face painting\, taste testers of Kangaroo\, damper making\, bouncy castles\, school art display\, health stalls\, and famous athletes.
URL:https://www.swhpn.com.au/event/waroona-2019-naidoc-showcase/
LOCATION:Waroona Memorial Hall\, 86 South Western Hwy\, Waroona\, WA\, 6215\, Australia
GEO:-32.8452962;115.9224961
X-APPLE-STRUCTURED-LOCATION;VALUE=URI;X-ADDRESS=Waroona Memorial Hall 86 South Western Hwy Waroona WA 6215 Australia;X-APPLE-RADIUS=500;X-TITLE=86 South Western Hwy:geo:115.9224961,-32.8452962
END:VEVENT
END:VCALENDAR